BEGIN:VCALENDAR
VERSION:2.0
PRODID:-//demokratisch - mehrsprachig - digital - ECPv6.10.0//NONSGML v1.0//EN
CALSCALE:GREGORIAN
METHOD:PUBLISH
X-WR-CALNAME:demokratisch - mehrsprachig - digital
X-ORIGINAL-URL:https://migration-lernen-lehren.de
X-WR-CALDESC:Veranstaltungen für demokratisch - mehrsprachig - digital
REFRESH-INTERVAL;VALUE=DURATION:PT1H
X-Robots-Tag:noindex
X-PUBLISHED-TTL:PT1H
BEGIN:VTIMEZONE
TZID:Europe/Berlin
BEGIN:DAYLIGHT
TZOFFSETFROM:+0100
TZOFFSETTO:+0200
TZNAME:CEST
DTSTART:20260329T010000
END:DAYLIGHT
BEGIN:STANDARD
TZOFFSETFROM:+0200
TZOFFSETTO:+0100
TZNAME:CET
DTSTART:20261025T010000
END:STANDARD
END:VTIMEZONE
BEGIN:VEVENT
DTSTART;TZID=Europe/Berlin:20260504T170000
DTEND;TZID=Europe/Berlin:20260504T170000
DTSTAMP:20260425T041145
CREATED:20260129T164536Z
LAST-MODIFIED:20260417T075911Z
UID:1228-1777914000-1777914000@migration-lernen-lehren.de
SUMMARY:Treff im Weltcafe Stuttgart
DESCRIPTION:Kommt einfach vorbei zum Reden über Dies & Das … Was gibt’s von Euch an wichtigen Themen … KURZ: Wir freuen uns auf Euch beim nächsten Treff!
URL:https://migration-lernen-lehren.de/event/trefff-im-weltcafe-stuttgart/
ATTACH;FMTTYPE=image/png:https://migration-lernen-lehren.de/wp-content/uploads/2025/01/weltcafe.bild_.2024-02-19-14.png
END:VEVENT
END:VCALENDAR